BEGIN:VCALENDAR
VERSION:2.0
PRODID:-//MobiLab - ECPv4.9.3.1//NONSGML v1.0//EN
CALSCALE:GREGORIAN
METHOD:PUBLISH
X-WR-CALNAME:MobiLab
X-ORIGINAL-URL:https://mobilab.lu
X-WR-CALDESC:Events for MobiLab
BEGIN:VEVENT
DTSTART;TZID=UTC+0:20180503T000000
DTEND;TZID=UTC+0:20191231T000000
DTSTAMP:20190823T202001
CREATED:20180503T134403Z
LAST-MODIFIED:20180503T134403Z
UID:1426-1525305600-1577750400@mobilab.lu
SUMMARY:1st official launch for Movesion Luxembourg!
DESCRIPTION:On 3-4 May 2018 the newborn startup company Movesion Luxembourg\, the first spinoff of MobiLab\, showcased the Mobility Manager app.\nThis tool will help companies in Luxembourg and neighbouring countries to improve the commuting satisfaction of their employees\, reduce their costs for transport services\, and ultimately contribute to sustainability.\nIn the picture you can see François Sprumont\, the CEO of Movesion Luxembourg\, proudly presenting the features of the app and the mission of the company.\n
URL:https://mobilab.lu/event/1st-official-launch-for-movesion-luxembourg/
ATTACH;FMTTYPE=image/jpeg:https://mobilab.lu/wp-content/uploads/2018/05/movesion.jpg
END:VEVENT
END:VCALENDAR